BEGIN:VCALENDAR
VERSION:2.0
PRODID:-//BRAT Club - ECPv6.15.20//NONSGML v1.0//EN
CALSCALE:GREGORIAN
METHOD:PUBLISH
X-ORIGINAL-URL:https://bratclub.co.uk
X-WR-CALDESC:Events for BRAT Club
REFRESH-INTERVAL;VALUE=DURATION:PT1H
X-Robots-Tag:noindex
X-PUBLISHED-TTL:PT1H
BEGIN:VTIMEZONE
TZID:Europe/London
BEGIN:DAYLIGHT
TZOFFSETFROM:+0000
TZOFFSETTO:+0100
TZNAME:BST
DTSTART:20220327T010000
END:DAYLIGHT
BEGIN:STANDARD
TZOFFSETFROM:+0100
TZOFFSETTO:+0000
TZNAME:GMT
DTSTART:20221030T010000
END:STANDARD
BEGIN:DAYLIGHT
TZOFFSETFROM:+0000
TZOFFSETTO:+0100
TZNAME:BST
DTSTART:20230326T010000
END:DAYLIGHT
BEGIN:STANDARD
TZOFFSETFROM:+0100
TZOFFSETTO:+0000
TZNAME:GMT
DTSTART:20231029T010000
END:STANDARD
BEGIN:DAYLIGHT
TZOFFSETFROM:+0000
TZOFFSETTO:+0100
TZNAME:BST
DTSTART:20240331T010000
END:DAYLIGHT
BEGIN:STANDARD
TZOFFSETFROM:+0100
TZOFFSETTO:+0000
TZNAME:GMT
DTSTART:20241027T010000
END:STANDARD
END:VTIMEZONE
BEGIN:VEVENT
DTSTART;TZID=Europe/London:20230617T100000
DTEND;TZID=Europe/London:20230617T170000
DTSTAMP:20260421T111216
CREATED:20221205T133412Z
LAST-MODIFIED:20221205T133412Z
UID:26987-1686996000-1687021200@bratclub.co.uk
SUMMARY:Heart of England Meeting 2 - June 17th 2023
DESCRIPTION:
URL:https://bratclub.co.uk/event/heart-of-england-meeting-2-june-17th-2023/
LOCATION:Banbury Harriers\, Drayton Pavilion\, North Oxfordshire Academy\, Drayton Road\, Banbury\, Oxfordshire\, OX16 0UD\, United Kingdom
CATEGORIES:Athletics,Junior League
END:VEVENT
BEGIN:VEVENT
DTSTART;TZID=Europe/London:20230614T170000
DTEND;TZID=Europe/London:20230614T220000
DTSTAMP:20260421T111216
CREATED:20221223T114032Z
LAST-MODIFIED:20221223T114032Z
UID:27112-1686762000-1686780000@bratclub.co.uk
SUMMARY:Nuneaton Night of 100m - 14th June 2023
DESCRIPTION:
URL:https://bratclub.co.uk/event/nuneaton-night-of-100m-14th-june-2023/
LOCATION:Pingles Stadium\, Nuneaton\, Warwickshire\, CV11 4LX\, United Kingdom
CATEGORIES:Athletics,Junior Other,Juniors,Other,Seniors
END:VEVENT
BEGIN:VEVENT
DTSTART;TZID=Europe/London:20230614T170000
DTEND;TZID=Europe/London:20230614T220000
DTSTAMP:20260421T111216
CREATED:20221223T111541Z
LAST-MODIFIED:20221223T111541Z
UID:27080-1686762000-1686780000@bratclub.co.uk
SUMMARY:Charnwood Open - 14th June 2023
DESCRIPTION:
URL:https://bratclub.co.uk/event/charnwood-open-14th-june-2023/
LOCATION:Charnwood Athletics Club\, Loughborough University\, Loughborough\, LE11 3TU\, United Kingdom
CATEGORIES:Athletics,Junior Other,Juniors,Other,Seniors
END:VEVENT
BEGIN:VEVENT
DTSTART;TZID=Europe/London:20230610T080000
DTEND;TZID=Europe/London:20230610T170000
DTSTAMP:20260421T111216
CREATED:20220919T124203Z
LAST-MODIFIED:20220919T124203Z
UID:26805-1686384000-1686416400@bratclub.co.uk
SUMMARY:ESAA County Schools T&F Trials - 10th June 2023 - Various Venues Dependent on County
DESCRIPTION:
URL:https://bratclub.co.uk/event/county-schools-tf-trials-10th-june-2023-various-venues-dependent-on-county/
LOCATION:West Midlands
CATEGORIES:Athletics,Junior Championships,Juniors
END:VEVENT
BEGIN:VEVENT
DTSTART;TZID=Europe/London:20230607T170000
DTEND;TZID=Europe/London:20230607T220000
DTSTAMP:20260421T111216
CREATED:20221223T111045Z
LAST-MODIFIED:20221223T111045Z
UID:27072-1686157200-1686175200@bratclub.co.uk
SUMMARY:UoB Open - 7th June 2023
DESCRIPTION:
URL:https://bratclub.co.uk/event/uob-open-7th-june-2023/
LOCATION:University of Birmingham Athletics Track\, 50 Edgbaston Park Road\, Birmingham\, B15 2RT\, United Kingdom
CATEGORIES:Athletics,Junior Other,Juniors,Other,Seniors
END:VEVENT
BEGIN:VEVENT
DTSTART;TZID=Europe/London:20230531T100000
DTEND;TZID=Europe/London:20230531T170000
DTSTAMP:20260421T111216
CREATED:20221203T091307Z
LAST-MODIFIED:20221203T091307Z
UID:26978-1685527200-1685552400@bratclub.co.uk
SUMMARY:Loughborough Outdoor Open 2 - 31st May 2023
DESCRIPTION:
URL:https://bratclub.co.uk/event/loughborough-outdoor-open-2-31st-may-2023/
LOCATION:Loughborough University\, Epinal Way\, Loughborough\, Leicestershire\, LE11 3TU\, United Kingdom
CATEGORIES:Athletics,Junior Other,Juniors,Other,Seniors
END:VEVENT
BEGIN:VEVENT
DTSTART;TZID=Europe/London:20230524T170000
DTEND;TZID=Europe/London:20230524T220000
DTSTAMP:20260421T111216
CREATED:20221223T113542Z
LAST-MODIFIED:20221223T113542Z
UID:27104-1684947600-1684965600@bratclub.co.uk
SUMMARY:Birchfield Open - 24th May 2023
DESCRIPTION:
URL:https://bratclub.co.uk/event/birchfield-open-24th-may-2023/
LOCATION:Alexander Stadium\, Walsall Road\, Perry Barr\, Birmingham\, West Midlands\, B42 2LR\, United Kingdom
CATEGORIES:Athletics,Junior Other,Juniors,Other,Seniors
END:VEVENT
BEGIN:VEVENT
DTSTART;TZID=Europe/London:20230521T100000
DTEND;TZID=Europe/London:20230521T170000
DTSTAMP:20260421T111216
CREATED:20221205T133032Z
LAST-MODIFIED:20221205T133032Z
UID:26985-1684663200-1684688400@bratclub.co.uk
SUMMARY:Heart of England Meeting 1 - 21st May 2023
DESCRIPTION:
URL:https://bratclub.co.uk/event/heart-of-england-meeting-1-21st-may-2023/
LOCATION:Kidderminster & Stourport\, The Alan Moreton Track\, Kingsway\, Stourport On Severn\, Worcestershire\, DY13 8BQ\, United Kingdom
CATEGORIES:Athletics,Junior League,Juniors
END:VEVENT
END:VCALENDAR